BEGIN:VCALENDAR
VERSION:2.0
PRODID:-//Library Market//iCal Export//EN
BEGIN:VEVENT
SUMMARY:From Protection To Support: A Two-Part Program
UID:26833
DTSTAMP:20260426T015800Z
DTSTART:20260625T210000Z
DTEND:20260625T224500Z
LOCATION:Randolph Intergenerational Center, 128 Pleasant Street, Randolph,
  MA 02368, United States
ROOM: From Protection To Support: A Two-Part Program
DESCRIPTION:Part 1: This free 1.5-hour training session (registration requ
 ired, limited to up to 10 participants) is led by Programs Coordinator and
  Instructor DeShawn Riley and is designed for women ages 18 and up. The se
 ssion offers a motivating and respectful environment for all attendees. It
  will take place on Thursday, June 25th, 2026, from 5:00 PM to 6:45 PM at 
 the Randolph Intergenerational Center, located at 128 Pleasant Street, Ran
 dolph, MA 02368.
URL:https://turnerfreelibrary.librarymarket.com/event/protection-support-t
 wo-part-program-26833
END:VEVENT
END:VCALENDAR
